BEGIN:VCALENDAR
VERSION:2.0
PRODID:-//ASPEN by Charter - ECPv5.6.0//NONSGML v1.0//EN
CALSCALE:GREGORIAN
METHOD:PUBLISH
X-WR-CALNAME:ASPEN by Charter
X-ORIGINAL-URL:https://chartersoftware.com
X-WR-CALDESC:Events for ASPEN by Charter
BEGIN:VTIMEZONE
TZID:America/Chicago
BEGIN:DAYLIGHT
TZOFFSETFROM:-0600
TZOFFSETTO:-0500
TZNAME:CDT
DTSTART:20160313T080000
END:DAYLIGHT
BEGIN:STANDARD
TZOFFSETFROM:-0500
TZOFFSETTO:-0600
TZNAME:CST
DTSTART:20161106T070000
END:STANDARD
END:VTIMEZONE
BEGIN:VEVENT
DTSTART;VALUE=DATE:20160927
DTEND;VALUE=DATE:20160930
DTSTAMP:20260421T135622
CREATED:20160823T144022Z
LAST-MODIFIED:20160823T144022Z
UID:1843-1474934400-1475193599@chartersoftware.com
SUMMARY:MHEDA NET All Star Summit - Women In Industry
DESCRIPTION:
URL:https://chartersoftware.com/event/mheda-net-all-star-summit-women-in-industry/
END:VEVENT
END:VCALENDAR