BEGIN:VCALENDAR
VERSION:2.0
PRODID:-//ASPEN by Charter - ECPv5.6.0//NONSGML v1.0//EN
CALSCALE:GREGORIAN
METHOD:PUBLISH
X-WR-CALNAME:ASPEN by Charter
X-ORIGINAL-URL:https://chartersoftware.com
X-WR-CALDESC:Events for ASPEN by Charter
BEGIN:VTIMEZONE
TZID:America/Los_Angeles
BEGIN:DAYLIGHT
TZOFFSETFROM:-0800
TZOFFSETTO:-0700
TZNAME:PDT
DTSTART:20170312T100000
END:DAYLIGHT
BEGIN:STANDARD
TZOFFSETFROM:-0700
TZOFFSETTO:-0800
TZNAME:PST
DTSTART:20171105T090000
END:STANDARD
END:VTIMEZONE
BEGIN:VEVENT
DTSTART;VALUE=DATE:20170204
DTEND;VALUE=DATE:20170210
DTSTAMP:20260421T090736
CREATED:20160927T215112Z
LAST-MODIFIED:20160927T215112Z
UID:1907-1486166400-1486684799@chartersoftware.com
SUMMARY:Golf Industry Show (GIS)
DESCRIPTION:Make the Turn
URL:https://chartersoftware.com/event/golf-industry-show-gis/
END:VEVENT
END:VCALENDAR