BEGIN:VCALENDAR
VERSION:2.0
PRODID:-//ASPEN by Charter - ECPv5.6.0//NONSGML v1.0//EN
CALSCALE:GREGORIAN
METHOD:PUBLISH
X-WR-CALNAME:ASPEN by Charter
X-ORIGINAL-URL:https://chartersoftware.com
X-WR-CALDESC:Events for ASPEN by Charter
BEGIN:VTIMEZONE
TZID:America/Denver
BEGIN:DAYLIGHT
TZOFFSETFROM:-0700
TZOFFSETTO:-0600
TZNAME:MDT
DTSTART:20170312T090000
END:DAYLIGHT
BEGIN:STANDARD
TZOFFSETFROM:-0600
TZOFFSETTO:-0700
TZNAME:MST
DTSTART:20171105T080000
END:STANDARD
END:VTIMEZONE
BEGIN:VEVENT
DTSTART;TZID=America/Denver:20170215T173000
DTEND;TZID=America/Denver:20170218T090000
DTSTAMP:20260421T073532
CREATED:20170123T203659Z
LAST-MODIFIED:20170123T203659Z
UID:1995-1487179800-1487408400@chartersoftware.com
SUMMARY:Club BRP 2018
DESCRIPTION:Wow. What a year. Powersports insiders and enthusiasts are still feeling the positive shockwaves from the reveal of the Ski-Doo REV Gen4 platform\, the ROTAX 850 E-TEC engine\, and the Can-Am Maverick X3 at BRP’s last two Clubs. We’ve built some incredible momentum. Our fans (and the competition!) have fueled this buzz and now we’re going to kick it into higher gear and build on these shockwaves together. \nSo more than ever\, we need your support and involvement to help make this Club a great success. Please save the date and join us for Club BRP 2018 | Ski-Doo and Can-Am in Reno\, Nevada from February 15 to 18. \nAgain\, thanks for your support. \nThe Club BRP Team
URL:https://chartersoftware.com/event/club-brp-2018/
LOCATION:Grand Sierra Resort\, 2500 E 2nd Street\, Reno\, NV\, 89595\, United States
END:VEVENT
END:VCALENDAR