BEGIN:VCALENDAR
VERSION:2.0
PRODID:-//ASPEN by Charter - ECPv5.6.0//NONSGML v1.0//EN
CALSCALE:GREGORIAN
METHOD:PUBLISH
X-WR-CALNAME:ASPEN by Charter
X-ORIGINAL-URL:https://chartersoftware.com
X-WR-CALDESC:Events for ASPEN by Charter
BEGIN:VTIMEZONE
TZID:America/Denver
BEGIN:DAYLIGHT
TZOFFSETFROM:-0700
TZOFFSETTO:-0600
TZNAME:MDT
DTSTART:20170312T090000
END:DAYLIGHT
BEGIN:STANDARD
TZOFFSETFROM:-0600
TZOFFSETTO:-0700
TZNAME:MST
DTSTART:20171105T080000
END:STANDARD
END:VTIMEZONE
BEGIN:VEVENT
DTSTART;VALUE=DATE:20170307
DTEND;VALUE=DATE:20170312
DTSTAMP:20260421T055901
CREATED:20160927T213541Z
LAST-MODIFIED:20160927T213541Z
UID:1895-1488844800-1489276799@chartersoftware.com
SUMMARY:ConExpo
DESCRIPTION:
URL:https://chartersoftware.com/event/conexpo/
END:VEVENT
END:VCALENDAR