BEGIN:VCALENDAR
VERSION:2.0
PRODID:-//ASPEN by Charter - ECPv5.6.0//NONSGML v1.0//EN
CALSCALE:GREGORIAN
METHOD:PUBLISH
X-WR-CALNAME:ASPEN by Charter
X-ORIGINAL-URL:https://chartersoftware.com
X-WR-CALDESC:Events for ASPEN by Charter
BEGIN:VTIMEZONE
TZID:UTC
BEGIN:STANDARD
TZOFFSETFROM:+0000
TZOFFSETTO:+0000
TZNAME:UTC
DTSTART:20170101T000000
END:STANDARD
END:VTIMEZONE
BEGIN:VEVENT
DTSTART;TZID=UTC:20170717T080000
DTEND;TZID=UTC:20170721T170000
DTSTAMP:20260420T232956
CREATED:20170517T013423Z
LAST-MODIFIED:20171116T205227Z
UID:2727-1500278400-1500656400@chartersoftware.com
SUMMARY:2017 ASPEN User Conference
DESCRIPTION:
URL:https://chartersoftware.com/event/2017-aspen-user-conference/
END:VEVENT
END:VCALENDAR