BEGIN:VCALENDAR
VERSION:2.0
PRODID:-//ASPEN by Charter - ECPv5.6.0//NONSGML v1.0//EN
CALSCALE:GREGORIAN
METHOD:PUBLISH
X-WR-CALNAME:ASPEN by Charter
X-ORIGINAL-URL:https://chartersoftware.com
X-WR-CALDESC:Events for ASPEN by Charter
BEGIN:VTIMEZONE
TZID:America/Chicago
BEGIN:DAYLIGHT
TZOFFSETFROM:-0600
TZOFFSETTO:-0500
TZNAME:CDT
DTSTART:20170312T080000
END:DAYLIGHT
BEGIN:STANDARD
TZOFFSETFROM:-0500
TZOFFSETTO:-0600
TZNAME:CST
DTSTART:20171105T070000
END:STANDARD
END:VTIMEZONE
BEGIN:VEVENT
DTSTART;VALUE=DATE:20171021
DTEND;VALUE=DATE:20171026
DTSTAMP:20260420T181605
CREATED:20170829T013924Z
LAST-MODIFIED:20171003T183121Z
UID:3808-1508544000-1508975999@chartersoftware.com
SUMMARY:2017 Kubota National Dealer Meeting
DESCRIPTION:  \n\n  \n  \n  \n  \nCharter Software will be attending the 2017 Kubota Connect National Dealer Meeting in Phoenix\, AZ October 21st through the 25th. Find us in the Premiere DBS section of the show floor. We’re excited to see customers and meet new people! \n  \nLearn more about our ASPEN integration for Kubota dealers\, including K-Pad\, Kubota Link\, parts locator\, and price file updates. \n  \nFor more information on the Kubota Connect venue
URL:https://chartersoftware.com/event/2017-kubota-dealer-meeting/
LOCATION:PHOENIX CONVENTION CENTER\, 100 N Third St\, Phoenix\, 85004\, United States
END:VEVENT
END:VCALENDAR