BEGIN:VCALENDAR
VERSION:2.0
PRODID:-//ASPEN by Charter - ECPv5.6.0//NONSGML v1.0//EN
CALSCALE:GREGORIAN
METHOD:PUBLISH
X-WR-CALNAME:ASPEN by Charter
X-ORIGINAL-URL:https://chartersoftware.com
X-WR-CALDESC:Events for ASPEN by Charter
BEGIN:VTIMEZONE
TZID:America/Kentucky/Louisville
BEGIN:DAYLIGHT
TZOFFSETFROM:-0500
TZOFFSETTO:-0400
TZNAME:EDT
DTSTART:20180311T070000
END:DAYLIGHT
BEGIN:STANDARD
TZOFFSETFROM:-0400
TZOFFSETTO:-0500
TZNAME:EST
DTSTART:20181104T060000
END:STANDARD
END:VTIMEZONE
BEGIN:VEVENT
DTSTART;TZID=America/Kentucky/Louisville:20180108T080000
DTEND;TZID=America/Kentucky/Louisville:20180109T170000
DTSTAMP:20260420T130213
CREATED:20171121T042542Z
LAST-MODIFIED:20171121T042734Z
UID:4117-1515398400-1515517200@chartersoftware.com
SUMMARY:Precision Farming 2018 Dealer Summit
DESCRIPTION:Charter Software Inc. is pleased to once again be attending the annual Precision Farming Dealer Summit. \n  \nJoin Charter Software Inc. President/CEO Anne Salemo on Tuesday\, January 9th from 12:45 – 1:45 PM as she moderates the Aftermarket Opportunities: Best Bets & Busts roundtable discussion.
URL:https://chartersoftware.com/event/precision-farming-2018-dealer-summit/
LOCATION:Galt House Hotel\, 140 North Fourth St.\, Louisville\, KY\, 40202\, United States
ORGANIZER;CN="Precision%20Farming%20Dealer":MAILTO:pfdsummit@precisionfarmingdealer.com
END:VEVENT
END:VCALENDAR