BEGIN:VCALENDAR
VERSION:2.0
PRODID:-//ASPEN by Charter - ECPv5.6.0//NONSGML v1.0//EN
CALSCALE:GREGORIAN
METHOD:PUBLISH
X-WR-CALNAME:ASPEN by Charter
X-ORIGINAL-URL:https://chartersoftware.com
X-WR-CALDESC:Events for ASPEN by Charter
BEGIN:VTIMEZONE
TZID:America/Denver
BEGIN:DAYLIGHT
TZOFFSETFROM:-0700
TZOFFSETTO:-0600
TZNAME:MDT
DTSTART:20210314T090000
END:DAYLIGHT
BEGIN:STANDARD
TZOFFSETFROM:-0600
TZOFFSETTO:-0700
TZNAME:MST
DTSTART:20211107T080000
END:STANDARD
END:VTIMEZONE
BEGIN:VEVENT
DTSTART;TZID=America/Denver:20210308T090000
DTEND;TZID=America/Denver:20210310T120000
DTSTAMP:20260420T044526
CREATED:20210128T212834Z
LAST-MODIFIED:20210128T222947Z
UID:6255-1615194000-1615377600@chartersoftware.com
SUMMARY:Virtual Training
DESCRIPTION:The Charter team is excited to be hosting an all-new\, all-virtual training event. Our learning-packed sessions are designed to equip you with tools and best practices to enhance your dealership’s performance. This event is ideal for both new and current employees. \n  \nSessions will be held from 9:00 am – 12:00 pm EST each day. \n\nMarch 8 – Accounting\nMarch 9 – Parts\nMarch 10 – Service\n\nClick here to register!
URL:https://chartersoftware.com/event/virtual-training/
LOCATION:At Your Desktop!\, Online
ATTACH;FMTTYPE=image/jpeg:https://chartersoftware.com/wp-content/uploads/2021/01/Charter-Virtual-Training-Banner.jpg
END:VEVENT
END:VCALENDAR